BEGIN:VCALENDAR
VERSION:2.0
PRODID:-//Gastroenterologen - ECPv6.15.20//NONSGML v1.0//EN
CALSCALE:GREGORIAN
METHOD:PUBLISH
X-WR-CALNAME:Gastroenterologen
X-ORIGINAL-URL:https://gastroenterologen.no
X-WR-CALDESC:Arrangement for Gastroenterologen
REFRESH-INTERVAL;VALUE=DURATION:PT1H
X-Robots-Tag:noindex
X-PUBLISHED-TTL:PT1H
BEGIN:VTIMEZONE
TZID:Europe/Oslo
BEGIN:DAYLIGHT
TZOFFSETFROM:+0100
TZOFFSETTO:+0200
TZNAME:CEST
DTSTART:20250330T010000
END:DAYLIGHT
BEGIN:STANDARD
TZOFFSETFROM:+0200
TZOFFSETTO:+0100
TZNAME:CET
DTSTART:20251026T010000
END:STANDARD
BEGIN:DAYLIGHT
TZOFFSETFROM:+0100
TZOFFSETTO:+0200
TZNAME:CEST
DTSTART:20260329T010000
END:DAYLIGHT
BEGIN:STANDARD
TZOFFSETFROM:+0200
TZOFFSETTO:+0100
TZNAME:CET
DTSTART:20261025T010000
END:STANDARD
BEGIN:DAYLIGHT
TZOFFSETFROM:+0100
TZOFFSETTO:+0200
TZNAME:CEST
DTSTART:20270328T010000
END:DAYLIGHT
BEGIN:STANDARD
TZOFFSETFROM:+0200
TZOFFSETTO:+0100
TZNAME:CET
DTSTART:20271031T010000
END:STANDARD
END:VTIMEZONE
BEGIN:VEVENT
DTSTART;TZID=Europe/Oslo:20260504T084500
DTEND;TZID=Europe/Oslo:20260505T153000
DTSTAMP:20260424T175639
CREATED:20260319T143706Z
LAST-MODIFIED:20260319T143706Z
UID:12409-1777884300-1777995000@gastroenterologen.no
SUMMARY:Polyppkurs for endoskopiteamet (TET polyppkurs)
DESCRIPTION:Teamkurs for leger og sykepleiere med erfaring i polyppektomi.\nEndoskopivirksomhet er teamarbeid\, spesielt mellom lege og sykepleier. Det er ønskelig at minst en sykepleier og en lege fra hvert senter som skal jobbe med tarmscreening har gjennomgått kurset. \nSykepleier og lege ved samme gastrolab bør delta samtidig\, men dersom alle legene har vært gjennom kurset kan eventuelt sykepleier delta alene\, – ta da kontakt med Endoskopiskolen før påmelding. Om ønskelig kan også én lege melde seg på sammen med to sykepleiere.
URL:https://endoskopiskolen.no/events/polyppkurs-for-endoskopiteamet-tet-polyppkurs-4-5-mai-2026/#new_tab
LOCATION:Ullevål sykehus – Bygg 31\, inngang 31A\, 1. og 2. etasje\, Kirkeveien 166\, Oslo\, 0450
CATEGORIES:Kurs
ATTACH;FMTTYPE=image/jpeg:https://gastroenterologen.no/wp-content/uploads/2026/03/Annonse_TET-polyppkurs_Mai-2026.jpeg
ORGANIZER;CN="Endoskopiskolen":MAILTO:endoskopiskolen@kreftregisteret.no
END:VEVENT
BEGIN:VEVENT
DTSTART;TZID=Europe/Oslo:20260505T080000
DTEND;TZID=Europe/Oslo:20260507T160000
DTSTAMP:20260424T175639
CREATED:20260330T133905Z
LAST-MODIFIED:20260330T133905Z
UID:12428-1777968000-1778169600@gastroenterologen.no
SUMMARY:Koloskopiinstruktør kurs (KIK) 5. – 7. mai 2026
DESCRIPTION:Kurset har som målsetting å gi instruktørkompetanse i endoskopiske prosedyrer. Deltagerne får et rammeverk for effektiv endoskopiundervisning og kunnskap om hvordan bevisst kompetanse om egen koloskopiteknikk er en forutsetning for å undervise andre. Kurset er intensivt\, interaktivt og praktisk.
URL:https://endoskopiskolen.no/events/kopi-av-koloskopiinstruktor-kurs-kik-5-7-mai-2026/#new_tab
CATEGORIES:Kurs
ATTACH;FMTTYPE=image/jpeg:https://gastroenterologen.no/wp-content/uploads/2026/03/KIK_uke-19_2026.jpeg
ORGANIZER;CN="Endoskopiskolen":MAILTO:endoskopiskolen@kreftregisteret.no
END:VEVENT
BEGIN:VEVENT
DTSTART;TZID=Europe/Oslo:20260507T084500
DTEND;TZID=Europe/Oslo:20260508T153000
DTSTAMP:20260424T175639
CREATED:20260319T143958Z
LAST-MODIFIED:20260319T143958Z
UID:12413-1778143500-1778254200@gastroenterologen.no
SUMMARY:Polyppkurs for endoskopiteamet (TET polyppkurs)
DESCRIPTION:Teamkurs for leger og sykepleiere med erfaring i polyppektomi.\nEndoskopivirksomhet er teamarbeid\, spesielt mellom lege og sykepleier. Det er ønskelig at minst en sykepleier og en lege fra hvert senter som skal jobbe med tarmscreening har gjennomgått kurset. \nSykepleier og lege ved samme gastrolab bør delta samtidig\, men dersom alle legene har vært gjennom kurset kan eventuelt sykepleier delta alene\, – ta da kontakt med Endoskopiskolen før påmelding. Om ønskelig kan også én lege melde seg på sammen med to sykepleiere.
URL:https://endoskopiskolen.no/events/polyppkurs-for-endoskopiteamet-tet-polyppkurs-7-8-mai-2026/#new_tab
LOCATION:Ullevål sykehus – Bygg 31\, inngang 31A\, 1. og 2. etasje\, Kirkeveien 166\, Oslo\, 0450
CATEGORIES:Kurs
ATTACH;FMTTYPE=image/jpeg:https://gastroenterologen.no/wp-content/uploads/2026/03/Annonse_TET-polyppkurs_Mai-2026.jpeg
ORGANIZER;CN="Endoskopiskolen":MAILTO:endoskopiskolen@kreftregisteret.no
END:VEVENT
BEGIN:VEVENT
DTSTART;TZID=Europe/Oslo:20260904T090000
DTEND;TZID=Europe/Oslo:20260904T170000
DTSTAMP:20260424T175639
CREATED:20260114T205846Z
LAST-MODIFIED:20260115T103435Z
UID:12315-1788512400-1788541200@gastroenterologen.no
SUMMARY:NGF IBD SYMPOSIUM 2026
DESCRIPTION:Bli med 4. september for en spennende dag med faglig påfyll i Oslo. \nProgrammet for IBD-symposiet kommer senere.
URL:https://gastroenterologen.no/event/ngf-ibd-symposium-2026/
CATEGORIES:Nasjonale møter
END:VEVENT
BEGIN:VEVENT
DTSTART;TZID=Europe/Oslo:20261008T120000
DTEND;TZID=Europe/Oslo:20261009T130000
DTSTAMP:20260424T175639
CREATED:20260410T131230Z
LAST-MODIFIED:20260410T131230Z
UID:12436-1791460800-1791550800@gastroenterologen.no
SUMMARY:NORDIC CHOLESTASIS SUMMIT
DESCRIPTION:Welcome to the Nordic Cholestasis Summit 2026\n8-9 October\, Stockholm\nNavigating Cholestatic Liver Disease – From the cradle to the cane \nWe are delighted to invite you to the first Nordic Cholestasis Summit. This event offers a unique opportunity for clinicians to exchange experiences and stay up-to-date on the latest development within cholestatic liver diseases affecting both children and adults. The summit will feature plenary sessions with international and Nordic speakers\, followed by moderated breakout sessions with patient cases.\nWe look forward to your participation! \nPlease register no later than 7 September 2026 \nFor questions regarding the program\, please contact Therese Jonsson\, Ipsen\, therese.jonsson@ipsen.com \nFor questions regarding your registration\, please contact Linda Flinthammar\, Evolve\, linda.flinthammar@evolvemeetings.se \n  \nIpsen will cover the cost for meals\, travel and accommodation for Danish and Finnish participants in accordance with local pharma codes. We have reserved hotel rooms at Nordic Light Hotel. You will be contacted by Evolve after registration for your travel arrangements. \nIn accordance with local pharma codes\, Swedish and Norwegian participants will cover the costs for accommodation and travel themselves. Ipsen will cover the cost for meals in accordance with local pharma codes. Link to book a hotel room under “Venue”. \n  \nNordic Cholestasis Summit 2026 is an IPSEN organized event. \nInstitut Produits Synthèse (IPSEN) AB\nFärögatan 33\, 164 51 Kista\, Sweden\nPh: +46 8 451 61 00 www.ipsen.com \nALLSC-NOR-000089 04 2026
URL:https://sv-se.eu.invajo.com/event/ipsenab/nordiccholestasissummit2026#new_tab
LOCATION:Nordic Light Hotel\, Vasaplan 7\, Stockholm
CATEGORIES:Internasjonale møter
ATTACH;FMTTYPE=image/png:https://gastroenterologen.no/wp-content/uploads/2026/04/Skjermbilde-2026-04-10-kl-151039-scaled.png
END:VEVENT
END:VCALENDAR